BEGIN:VCALENDAR
VERSION:2.0
PRODID:-//Strategic Grants - ECPv6.15.20//NONSGML v1.0//EN
CALSCALE:GREGORIAN
METHOD:PUBLISH
X-ORIGINAL-URL:https://www.strategicgrants.com.au
X-WR-CALDESC:Events for Strategic Grants
REFRESH-INTERVAL;VALUE=DURATION:PT1H
X-Robots-Tag:noindex
X-PUBLISHED-TTL:PT1H
BEGIN:VTIMEZONE
TZID:Australia/Brisbane
BEGIN:STANDARD
TZOFFSETFROM:+1000
TZOFFSETTO:+1000
TZNAME:AEST
DTSTART:20230101T000000
END:STANDARD
END:VTIMEZONE
BEGIN:VEVENT
DTSTART;TZID=Australia/Brisbane:20240827T090000
DTEND;TZID=Australia/Brisbane:20240827T123000
DTSTAMP:20260421T182939
CREATED:20240621T061916Z
LAST-MODIFIED:20240821T011246Z
UID:9208-1724749200-1724761800@www.strategicgrants.com.au
SUMMARY:Brisbane Best Practice Grant-seeker Workshop
DESCRIPTION:In our half-day workshop\, you will self-score your organisation’s performance against our seven critical success factors\, learn best practice processes and funder expectations and have a clear plan on where your organisation needs to focus its attention to improve grants success. \nThis practical half-day workshop will cover: \n💫An overview of the current grants landscape \n💪 Getting your organisation ‘grant ready’ \n💯 Self score against our Grants Best Practice Tracker \n📑 Guide to packaging projects \n💬 Feedback from funders on why applications do or don’t succeed \n🤝Donor relationships \n✍ Grant writing overview \n📊 Evaluation\, reporting and how to engage your donors. \n✅ Templates and checklists to help build your organisation’s capacity \n🛠 Digital toolkit with workshop resources \nWhen: 9.00am – 12:30pm\, Tuesday 27 August 2024 \nWhere: Royal Brisbane and Women’s Hospital Education Centre  \nCost: $250 per person ex GST (ticket cost includes morning tea) \nWhat do others say about our workshops? \nThe Strategic Grants’ Grant-Seeking Workshops are often heralded as the best grants training that attendees have completed. \n“It really has been one of the most informative fundraising workshops I have been to in a while\, and it helped re-enforce some processes for me that I look forward to implementing.” – RSPCA Western Australia \n“All of the Grant-Seeking Workshop was really useful – a great overview and I wish I’d completed the workshop prior to my first applications!” – Franklin Family Support \n“I just wanted to say a very big thank you for the opportunity to attend this morning. The workshop was incredibly helpful and practical.” – UnitingCare Queensland \nYou can read more of our testimonials here. \nGrants training\, brought to you by Strategic Grants
URL:https://www.strategicgrants.com.au/event/brisbane-best-practice-grant-seeker-workshop-2/
LOCATION:Royal Brisbane and Women’s Hospital Education Centre\, Block 1\, Royal Brisbane & Women’s Hospital\, Herston\, Queensland\, 4029\, Australia
CATEGORIES:Webinars,Workshop
ATTACH;FMTTYPE=image/jpeg:https://www.strategicgrants.com.au/wp-content/uploads/2024/06/2024-GSW.jpg
ORGANIZER;CN="Strategic Grants":MAILTO:info@strategicgrants.com.au
END:VEVENT
END:VCALENDAR